BEGIN:VCALENDAR
PRODID:-//The Research Council of Norway//Forskningsradet Web//EN
VERSION:2.0
METHOD:PUBLISH
BEGIN:VEVENT
DTSTART:20260512T070000Z
DTEND:20260512T103000Z
UID:78a2ee26-2da5-4599-bd23-bc224437803a
DESCRIPTION:https://www.forskningsradet.no/horisont-europa/kurs/e.3-oppstart-prosjekt-mai/ Kurset gir nye prosjektledere en praktisk innføring i hvordan man organisererer oppstarten og kommer i gang med et Horisont Europa-prosjekt som har fått tildelt midler. Passer for nybegynnere i Horisont Europa som ønsker tematisk fordypning og praktisk veiledning – uavhengig av rolle (nivå 1).
LOCATION:
SUMMARY:E.3 Oppstart av prosjektet (webinar)
END:VEVENT
END:VCALENDAR