BEGIN:VCALENDAR
PRODID:-//The Research Council of Norway//Forskningsradet Web//EN
VERSION:2.0
METHOD:PUBLISH
BEGIN:VEVENT
DTSTART:20260608T070000Z
DTEND:20260608T103000Z
UID:dc9ebf1d-bb2f-4627-b5ad-1d1ad7c4cc73
DESCRIPTION:https://www.forskningsradet.no/horisont-europa/kurs/e.1-lump-sum-budsjetter-prosjekter-juni/ Kurset gir en praktisk innføring i rundsum-finansiering (lump sum), hvordan du skriver søknad om et rundsum-prosjekt, og hvordan du kan planlegge og lede et slikt prosjekt på en effektiv måte. Passer for nybegynnere i Horisont Europa som ønsker tematisk fordypning og praktisk veiledning – uavhengig av rolle (nivå 1).
LOCATION:Digital
SUMMARY:E.1 Rundsum (lump sum), budsjetter og økonomistyring (webinar)
END:VEVENT
END:VCALENDAR