BEGIN:VCALENDAR
PRODID:-//The Research Council of Norway//Forskningsradet Web//EN
VERSION:2.0
METHOD:PUBLISH
BEGIN:VEVENT
DTSTART:20260528T070000Z
DTEND:20260528T130000Z
UID:e82ea0e3-4023-49c0-a9d1-0d1a209be637
DESCRIPTION:https://www.forskningsradet.no/horisont-europa/kurs/c.1-prosjektledelse-mai/ Kurset gir en enkel innføring i hele livssyklusen til et samarbeidsprosjekt i Horisont Europa. Du lærer om prosjektoppstart, rapportering og viktige ledelsesoppgaver. Passer for prosjektledere og rådgivere som planlegger og gjennomfører Horisont Europa-prosjekter (nivå 1).
LOCATION:Norges forskningsråd, Drammensveien 288 Oslo
SUMMARY:C.1 Prosjektledelse i FoU-prosjekter
END:VEVENT
END:VCALENDAR