BEGIN:VCALENDAR
PRODID:-//The Research Council of Norway//Forskningsradet Web//EN
VERSION:2.0
METHOD:PUBLISH
BEGIN:VEVENT
DTSTART:20260611T070000Z
DTEND:20260612T130000Z
UID:3b6132a2-70e9-4f4a-9465-59db83b551f7
DESCRIPTION:https://www.forskningsradet.no/horisont-europa/kurs/b.2-prosjektutvikling-heu-effekter-oslo-jun/ På dette to-dagers kurset får du konkrete verktøy for å lede søknadsarbeidet – fra idé til ferdig søknad. Passer for prosjektledere og EU- eller forskningsrådgivere (nivå 2).
LOCATION:Norges forskningsråd, Drammensveien 288 Oslo
SUMMARY:B.2 Søknadsskriving til Horisont Europa med vekt på effekter
END:VEVENT
END:VCALENDAR