BEGIN:VCALENDAR
PRODID:-//The Research Council of Norway//Forskningsradet Web//EN
VERSION:2.0
METHOD:PUBLISH
BEGIN:VEVENT
DTSTART:20260527T070000Z
DTEND:20260527T130000Z
UID:001142c0-d103-4809-9b27-512755333179
DESCRIPTION:https://www.forskningsradet.no/horisont-europa/kurs/b.1-grunnkurs-heu-oslo-mai/ På kurset lærer du hva som må gjøres i forberedelsesfasen, hva som forventes av hver partner, hvordan du bygger et sterkt konsortium, trinnene i søknadsskriving og hvordan du leder søknadsarbeidet fram til innlevering. Passer for prosjektledere og EU- eller forskningsrådgivere (nivå 1).
LOCATION:Norges forskningsråd, Drammensveien 288 Oslo
SUMMARY:B.1 Grunnkurs i søknadsskriving til Horisont Europa
END:VEVENT
END:VCALENDAR