BEGIN:VCALENDAR
PRODID:-//The Research Council of Norway//Forskningsradet Web//EN
VERSION:2.0
METHOD:PUBLISH
BEGIN:VEVENT
DTSTART:20260428T070000Z
DTEND:20260428T130000Z
UID:ec46fe00-1b85-4d0c-b29a-dd5f0419bae7
DESCRIPTION:https://www.forskningsradet.no/horisont-europa/kurs/b.1-grunnkurs-heu-oslo-apr/ På kurset lærer du hva som må gjøres i forberedelsesfasen, hva som forventes av hver partner, hvordan du bygger et sterkt konsortium, trinnene i søknadsskriving og hvordan du leder søknadsarbeidet fram til innlevering. Passer for prosjektledere og EU- eller forskningsrådgivere (nivå 1).
LOCATION:Norges forskningsråd, Drammensveien 288 Oslo
SUMMARY:B.1 Grunnkurs i søknadsskriving til Horisont Europa
END:VEVENT
END:VCALENDAR