BEGIN:VCALENDAR
PRODID:-//The Research Council of Norway//Forskningsradet Web//EN
VERSION:2.0
METHOD:PUBLISH
BEGIN:VEVENT
DTSTART:20260518T120000Z
DTEND:20260518T130000Z
UID:07a0aacc-3d1c-434c-9d98-13b143457e4a
DESCRIPTION:https://www.forskningsradet.no/arrangementer/2026/sporretime-teknologiutlysninger/ I dette webinaret svarer vi på spørsmål knyttet til utlysningene "Banebrytende muliggjørende teknologier", "Utfordringsdrevet tverrsektorielt samarbeid innenfor nanoteknologi og avanserte materialer", "Utfordringsdrevet samarbeid innenfor næringsrettet bioteknologi" og "Sikkerhet, pålitelighet og motstandsdyktighet i digitale økosystemer". Vi anbefaler at du setter deg godt inn i utlysningen før du deltar på webinaret.
LOCATION:Digital
SUMMARY:Spørretime teknologiutlysninger
END:VEVENT
END:VCALENDAR