BEGIN:VCALENDAR
PRODID:-//The Research Council of Norway//Forskningsradet Web//EN
VERSION:2.0
METHOD:PUBLISH
BEGIN:VEVENT
DTSTART:20260514T080000Z
DTEND:20260514T090000Z
UID:3dd6025c-9dad-45ce-b5a6-0869c94c4665
DESCRIPTION:https://www.forskningsradet.no/arrangementer/2026/sokerwebinar-samarbeidsprosjekt-utfordringer-maritim-naring/ Vi inviterer forskningsorganisasjoner og andre interesserte til et søkerwebinar hvor vi informerer om utlysningen "Samarbeidsprosjekt for å møte utfordringer i maritim næring". Webinaret innledes med en presentasjon av utlysningenes formål, tematikk og krav, i tillegg til tidslinjer og informasjon om søknadsbehandlingen.
LOCATION:Digital
SUMMARY:Søkerwebinar - Samarbeidsprosjekt for å møte utfordringer i maritim næring
END:VEVENT
END:VCALENDAR