BEGIN:VCALENDAR
PRODID:-//The Research Council of Norway//Forskningsradet Web//EN
VERSION:2.0
METHOD:PUBLISH
BEGIN:VEVENT
DTSTART:20260513T080000Z
DTEND:20260513T090000Z
UID:2f961782-d3ca-43a8-8156-5f0bd40fdc45
DESCRIPTION:https://www.forskningsradet.no/arrangementer/2026/sokerwebinar-havbunnsmineraler/ Vi inviterer forskningsorganisasjoner og andre interesserte til webinar hvor vi informerer om utlysninger rettet mot havbunnsmineraler i 2026. Webinaret innledes med en presentasjon av utlysningenes formål, tematikk og krav, i tillegg til tidslinjer og informasjon om søknadsbehandlingen.
LOCATION:Digital
SUMMARY:Søkerwebinar - Havbunnsmineraler
END:VEVENT
END:VCALENDAR